BEGIN:VCALENDAR
VERSION:2.0
PRODID:-//Generations Community Church - ECPv4.3.3//NONSGML v1.0//EN
CALSCALE:GREGORIAN
METHOD:PUBLISH
X-WR-CALNAME:Generations Community Church
X-ORIGINAL-URL:https://www.generationscc.ca
X-WR-CALDESC:Events for Generations Community Church
BEGIN:VEVENT
DTSTART;TZID=UTC-5:20230222T193000
DTEND;TZID=UTC-5:20230222T210000
DTSTAMP:20260425T170500
CREATED:20230101T201356Z
LAST-MODIFIED:20230101T201356Z
UID:27339-1677094200-1677099600@www.generationscc.ca
SUMMARY:Zoom Bible Study 7:30pm
DESCRIPTION:Join us on Zoom as we dig deeper into the Bible together and spend time in prayer for each other and our community.
URL:https://www.generationscc.ca/event/zoom-bible-study-730pm-6/
END:VEVENT
END:VCALENDAR