BEGIN:VCALENDAR
VERSION:2.0
PRODID:-//Generations Community Church - ECPv4.3.3//NONSGML v1.0//EN
CALSCALE:GREGORIAN
METHOD:PUBLISH
X-WR-CALNAME:Generations Community Church
X-ORIGINAL-URL:https://www.generationscc.ca
X-WR-CALDESC:Events for Generations Community Church
BEGIN:VEVENT
DTSTART;TZID=UTC-5:20210917T173000
DTEND;TZID=UTC-5:20210917T200000
DTSTAMP:20260419T124045
CREATED:20210913T205725Z
LAST-MODIFIED:20210913T205725Z
UID:26836-1631899800-1631908800@www.generationscc.ca
SUMMARY:Kids & Teens Campfire 5:30pm
DESCRIPTION:We will be meeting for some fun times and treats around a campfire. Kids and teens are invited to come and reconnect with each other. We will be roasting hotdogs for supper. Please bring a chair.
URL:https://www.generationscc.ca/event/kids-teens-campfire-530pm/
END:VEVENT
END:VCALENDAR