BEGIN:VCALENDAR
VERSION:2.0
PRODID:-//Generations Community Church - ECPv4.3.3//NONSGML v1.0//EN
CALSCALE:GREGORIAN
METHOD:PUBLISH
X-WR-CALNAME:Generations Community Church
X-ORIGINAL-URL:https://www.generationscc.ca
X-WR-CALDESC:Events for Generations Community Church
BEGIN:VEVENT
DTSTART;TZID=UTC-5:20210915T193000
DTEND;TZID=UTC-5:20210915T203000
DTSTAMP:20260419T160227
CREATED:20210913T204715Z
LAST-MODIFIED:20210913T205804Z
UID:26829-1631734200-1631737800@www.generationscc.ca
SUMMARY:Prayer Meeting 7:30pm
DESCRIPTION:Join us outside at the church for a time of prayer.\n\nIf the case of unpleasant weather we will meet inside.
URL:https://www.generationscc.ca/event/prayer-meeting-730pm-3/
END:VEVENT
END:VCALENDAR