BEGIN:VCALENDAR
VERSION:2.0
PRODID:-//Generations Community Church - ECPv4.3.3//NONSGML v1.0//EN
CALSCALE:GREGORIAN
METHOD:PUBLISH
X-WR-CALNAME:Generations Community Church
X-ORIGINAL-URL:https://www.generationscc.ca
X-WR-CALDESC:Events for Generations Community Church
BEGIN:VEVENT
DTSTART;TZID=UTC-5:20230322T193000
DTEND;TZID=UTC-5:20230322T210000
DTSTAMP:20260425T141631
CREATED:20230312T183118Z
LAST-MODIFIED:20230312T183118Z
UID:27489-1679513400-1679518800@www.generationscc.ca
SUMMARY:Zoom Prayer Meeting 7:30pm
DESCRIPTION:Join us on Zoom as we spend time together praying for our church family and community.
URL:https://www.generationscc.ca/event/zoom-prayer-meeting-730pm/
END:VEVENT
END:VCALENDAR