BEGIN:VCALENDAR
VERSION:2.0
PRODID:-//Generations Community Church - ECPv4.3.3//NONSGML v1.0//EN
CALSCALE:GREGORIAN
METHOD:PUBLISH
X-WR-CALNAME:Generations Community Church
X-ORIGINAL-URL:https://www.generationscc.ca
X-WR-CALDESC:Events for Generations Community Church
BEGIN:VEVENT
DTSTART;TZID=UTC-5:20230419T193000
DTEND;TZID=UTC-5:20230419T200000
DTSTAMP:20260425T135345
CREATED:20230402T172115Z
LAST-MODIFIED:20230402T172115Z
UID:27530-1681932600-1681934400@www.generationscc.ca
SUMMARY:Zoom Bible Study 7:30pm
DESCRIPTION:Join us on Zoom as we dig deeper into the Bible together and spend time in prayer for each other and our community.
URL:https://www.generationscc.ca/event/zoom-bible-study-730pm-11/
END:VEVENT
END:VCALENDAR