BEGIN:VCALENDAR
VERSION:2.0
PRODID:-//Generations Community Church - ECPv4.3.3//NONSGML v1.0//EN
CALSCALE:GREGORIAN
METHOD:PUBLISH
X-WR-CALNAME:Generations Community Church
X-ORIGINAL-URL:https://www.generationscc.ca
X-WR-CALDESC:Events for Generations Community Church
BEGIN:VEVENT
DTSTART;TZID=UTC-5:20210117T103000
DTEND;TZID=UTC-5:20210117T130000
DTSTAMP:20260424T091346
CREATED:20200106T200517Z
LAST-MODIFIED:20200106T200517Z
UID:26194-1610879400-1610888400@www.generationscc.ca
SUMMARY:Worship Service & Potluck Lunch 10:30am
DESCRIPTION:
URL:https://www.generationscc.ca/event/worship-service-potluck-lunch-1030am-17/
END:VEVENT
END:VCALENDAR