BEGIN:VCALENDAR
VERSION:2.0
PRODID:-//Generations Community Church - ECPv4.3.3//NONSGML v1.0//EN
CALSCALE:GREGORIAN
METHOD:PUBLISH
X-WR-CALNAME:Generations Community Church
X-ORIGINAL-URL:https://www.generationscc.ca
X-WR-CALDESC:Events for Generations Community Church
BEGIN:VEVENT
DTSTART;TZID=UTC-5:20200621T103000
DTEND;TZID=UTC-5:20200621T130000
DTSTAMP:20260424T114418
CREATED:20200106T181848Z
LAST-MODIFIED:20200106T181848Z
UID:26124-1592735400-1592744400@www.generationscc.ca
SUMMARY:Worship Service & Potluck Lunch 10:30am
DESCRIPTION:
URL:https://www.generationscc.ca/event/worship-service-potluck-lunch-1030am-11/
END:VEVENT
END:VCALENDAR