BEGIN:VCALENDAR
VERSION:2.0
PRODID:-//Generations Community Church - ECPv4.3.3//NONSGML v1.0//EN
CALSCALE:GREGORIAN
METHOD:PUBLISH
X-WR-CALNAME:Generations Community Church
X-ORIGINAL-URL:https://www.generationscc.ca
X-WR-CALDESC:Events for Generations Community Church
BEGIN:VEVENT
DTSTART;TZID=UTC-5:20221218T103000
DTEND;TZID=UTC-5:20221218T120000
DTSTAMP:20260424T062044
CREATED:20220919T155418Z
LAST-MODIFIED:20220919T155418Z
UID:27230-1671359400-1671364800@www.generationscc.ca
SUMMARY:Worship Service 10:30am & Christmas Potluck
DESCRIPTION:Join us at the church or on Zoom for a time of musical worship and an encouraging message.\n\nStay after the service for our monthly potluck lunch. Bring a favourite dish to share.
URL:https://www.generationscc.ca/event/worship-service-1030am-christmas-potluck-2/
END:VEVENT
END:VCALENDAR