BEGIN:VCALENDAR
VERSION:2.0
PRODID:-//Generations Community Church - ECPv4.3.3//NONSGML v1.0//EN
CALSCALE:GREGORIAN
METHOD:PUBLISH
X-WR-CALNAME:Generations Community Church
X-ORIGINAL-URL:https://www.generationscc.ca
X-WR-CALDESC:Events for Generations Community Church
BEGIN:VEVENT
DTSTART;TZID=UTC-5:20201108T103000
DTEND;TZID=UTC-5:20201108T120000
DTSTAMP:20260424T225133
CREATED:20200106T195506Z
LAST-MODIFIED:20200106T195506Z
UID:26172-1604831400-1604836800@www.generationscc.ca
SUMMARY:Worship Service 10:30am
DESCRIPTION:
URL:https://www.generationscc.ca/event/worship-service-1030am-91/
END:VEVENT
END:VCALENDAR