BEGIN:VCALENDAR
VERSION:2.0
PRODID:-//Generations Community Church - ECPv4.3.3//NONSGML v1.0//EN
CALSCALE:GREGORIAN
METHOD:PUBLISH
X-WR-CALNAME:Generations Community Church
X-ORIGINAL-URL:https://www.generationscc.ca
X-WR-CALDESC:Events for Generations Community Church
BEGIN:VEVENT
DTSTART;TZID=UTC-5:20200426T103000
DTEND;TZID=UTC-5:20200426T120000
DTSTAMP:20260424T095458
CREATED:20200106T181002Z
LAST-MODIFIED:20200106T181002Z
UID:26097-1587897000-1587902400@www.generationscc.ca
SUMMARY:Worship Service 10:30am
DESCRIPTION:
URL:https://www.generationscc.ca/event/worship-service-1030am-65/
END:VEVENT
END:VCALENDAR