BEGIN:VCALENDAR
VERSION:2.0
PRODID:-//Generations Community Church - ECPv4.3.3//NONSGML v1.0//EN
CALSCALE:GREGORIAN
METHOD:PUBLISH
X-WR-CALNAME:Generations Community Church
X-ORIGINAL-URL:https://www.generationscc.ca
X-WR-CALDESC:Events for Generations Community Church
BEGIN:VEVENT
DTSTART;TZID=UTC-5:20210307T103000
DTEND;TZID=UTC-5:20210307T120000
DTSTAMP:20260424T035730
CREATED:20210302T024731Z
LAST-MODIFIED:20210302T024922Z
UID:26537-1615113000-1615118400@www.generationscc.ca
SUMMARY:Worship Service 10:30am
DESCRIPTION:Join us on Zoom for a time of musical worship and a relevant message.
URL:https://www.generationscc.ca/event/worship-service-1030am-61/
END:VEVENT
END:VCALENDAR