BEGIN:VCALENDAR
VERSION:2.0
PRODID:-//Generations Community Church - ECPv4.3.3//NONSGML v1.0//EN
CALSCALE:GREGORIAN
METHOD:PUBLISH
X-WR-CALNAME:Generations Community Church
X-ORIGINAL-URL:https://www.generationscc.ca
X-WR-CALDESC:Events for Generations Community Church
BEGIN:VEVENT
DTSTART;TZID=UTC-5:20200301T103000
DTEND;TZID=UTC-5:20200301T120000
DTSTAMP:20260424T132224
CREATED:20200106T180608Z
LAST-MODIFIED:20200106T180608Z
UID:26085-1583058600-1583064000@www.generationscc.ca
SUMMARY:Worship Service 10:30am
DESCRIPTION:
URL:https://www.generationscc.ca/event/worship-service-1030am-59/
END:VEVENT
END:VCALENDAR