BEGIN:VCALENDAR
VERSION:2.0
PRODID:-//Generations Community Church - ECPv4.3.3//NONSGML v1.0//EN
CALSCALE:GREGORIAN
METHOD:PUBLISH
X-WR-CALNAME:Generations Community Church
X-ORIGINAL-URL:https://www.generationscc.ca
X-WR-CALDESC:Events for Generations Community Church
BEGIN:VEVENT
DTSTART;TZID=UTC-5:20221113T103000
DTEND;TZID=UTC-5:20221113T120000
DTSTAMP:20260424T051842
CREATED:20220919T155719Z
LAST-MODIFIED:20220919T155719Z
UID:27238-1668335400-1668340800@www.generationscc.ca
SUMMARY:Worship Service 10:30am
DESCRIPTION:Join us at the church or on Zoom for a time of musical worship and an encouraging message.
URL:https://www.generationscc.ca/event/worship-service-1030am-166/
END:VEVENT
END:VCALENDAR