BEGIN:VCALENDAR
VERSION:2.0
PRODID:-//Generations Community Church - ECPv4.3.3//NONSGML v1.0//EN
CALSCALE:GREGORIAN
METHOD:PUBLISH
X-WR-CALNAME:Generations Community Church
X-ORIGINAL-URL:https://www.generationscc.ca
X-WR-CALDESC:Events for Generations Community Church
BEGIN:VEVENT
DTSTART;TZID=UTC-5:20220821T103000
DTEND;TZID=UTC-5:20220821T120000
DTSTAMP:20260423T235700
CREATED:20220605T185325Z
LAST-MODIFIED:20220605T185325Z
UID:27101-1661077800-1661083200@www.generationscc.ca
SUMMARY:Worship Service 10:30am
DESCRIPTION:Join us at the church or on Zoom for a time of musical worship and a relevant message.
URL:https://www.generationscc.ca/event/worship-service-1030am-155/
END:VEVENT
END:VCALENDAR