BEGIN:VCALENDAR
VERSION:2.0
PRODID:-//Generations Community Church - ECPv4.3.3//NONSGML v1.0//EN
CALSCALE:GREGORIAN
METHOD:PUBLISH
X-WR-CALNAME:Generations Community Church
X-ORIGINAL-URL:https://www.generationscc.ca
X-WR-CALDESC:Events for Generations Community Church
BEGIN:VEVENT
DTSTART;TZID=UTC-5:20220717T103000
DTEND;TZID=UTC-5:20220717T120000
DTSTAMP:20260423T191909
CREATED:20220605T184913Z
LAST-MODIFIED:20220605T185531Z
UID:27091-1658053800-1658059200@www.generationscc.ca
SUMMARY:Outdoor Worship Service 10:30am
DESCRIPTION:Join us at the church or on Zoom for a time of musical worship and a relevant message.\n\nThis Sunday\, weather permitting\, we will have the service outside. Bring a chair and dress for the weather.
URL:https://www.generationscc.ca/event/worship-service-1030am-150/
END:VEVENT
END:VCALENDAR