BEGIN:VCALENDAR
VERSION:2.0
PRODID:-//Generations Community Church - ECPv4.3.3//NONSGML v1.0//EN
CALSCALE:GREGORIAN
METHOD:PUBLISH
X-WR-CALNAME:Generations Community Church
X-ORIGINAL-URL:https://www.generationscc.ca
X-WR-CALDESC:Events for Generations Community Church
BEGIN:VEVENT
DTSTART;TZID=UTC-5:20220626T103000
DTEND;TZID=UTC-5:20220626T120000
DTSTAMP:20260425T102457
CREATED:20220529T110455Z
LAST-MODIFIED:20220605T184328Z
UID:27066-1656239400-1656244800@www.generationscc.ca
SUMMARY:Worship Service 10:30am Business Meeting & Strawberry Social
DESCRIPTION:Join us at the church or on Zoom for a time of musical worship and a relevant message.\n\nWe will have a short business meeting immediately following the service and finish with a time of fellowship and enjoy some strawberries and ice cream.
URL:https://www.generationscc.ca/event/worship-service-1030am-147/
END:VEVENT
END:VCALENDAR