BEGIN:VCALENDAR
VERSION:2.0
PRODID:-//Generations Community Church - ECPv4.3.3//NONSGML v1.0//EN
CALSCALE:GREGORIAN
METHOD:PUBLISH
X-WR-CALNAME:Generations Community Church
X-ORIGINAL-URL:https://www.generationscc.ca
X-WR-CALDESC:Events for Generations Community Church
BEGIN:VEVENT
DTSTART;TZID=UTC-5:20220529T103000
DTEND;TZID=UTC-5:20220529T120000
DTSTAMP:20260423T143734
CREATED:20220529T105731Z
LAST-MODIFIED:20220529T105731Z
UID:27055-1653820200-1653825600@www.generationscc.ca
SUMMARY:Worship Service 10:30am
DESCRIPTION:Join us at the church or on Zoom for a time of musical worship and a relevant message.
URL:https://www.generationscc.ca/event/worship-service-1030am-142/
END:VEVENT
END:VCALENDAR