BEGIN:VCALENDAR
VERSION:2.0
PRODID:-//Generations Community Church - ECPv4.3.3//NONSGML v1.0//EN
CALSCALE:GREGORIAN
METHOD:PUBLISH
X-WR-CALNAME:Generations Community Church
X-ORIGINAL-URL:https://www.generationscc.ca
X-WR-CALDESC:Events for Generations Community Church
BEGIN:VEVENT
DTSTART;TZID=UTC-5:20210516T103000
DTEND;TZID=UTC-5:20210516T120000
DTSTAMP:20260423T162311
CREATED:20210503T003446Z
LAST-MODIFIED:20210503T003446Z
UID:26656-1621161000-1621166400@www.generationscc.ca
SUMMARY:Worship Service 10:30am
DESCRIPTION:Join us on Zoom for a time of musical worship and a relevant message.
URL:https://www.generationscc.ca/event/worship-service-1030am-108/
END:VEVENT
END:VCALENDAR