BEGIN:VCALENDAR
VERSION:2.0
PRODID:-//Generations Community Church - ECPv4.3.3//NONSGML v1.0//EN
CALSCALE:GREGORIAN
METHOD:PUBLISH
X-WR-CALNAME:Generations Community Church
X-ORIGINAL-URL:https://www.generationscc.ca
X-WR-CALDESC:Events for Generations Community Church
BEGIN:VEVENT
DTSTART;TZID=UTC-5:20210509T103000
DTEND;TZID=UTC-5:20210509T120000
DTSTAMP:20260423T180455
CREATED:20210503T003345Z
LAST-MODIFIED:20210503T003345Z
UID:26654-1620556200-1620561600@www.generationscc.ca
SUMMARY:Worship Service 10:30am
DESCRIPTION:Join us on Zoom for a time of musical worship and a relevant message.
URL:https://www.generationscc.ca/event/worship-service-1030am-107/
END:VEVENT
END:VCALENDAR