BEGIN:VCALENDAR
VERSION:2.0
PRODID:-//Generations Community Church - ECPv4.3.3//NONSGML v1.0//EN
CALSCALE:GREGORIAN
METHOD:PUBLISH
X-WR-CALNAME:Generations Community Church
X-ORIGINAL-URL:https://www.generationscc.ca
X-WR-CALDESC:Events for Generations Community Church
BEGIN:VEVENT
DTSTART;TZID=UTC-5:20210425T103000
DTEND;TZID=UTC-5:20210425T120000
DTSTAMP:20260423T195325
CREATED:20210302T031529Z
LAST-MODIFIED:20210302T031529Z
UID:26555-1619346600-1619352000@www.generationscc.ca
SUMMARY:Worship Service 10:30am
DESCRIPTION:Join us on Zoom for a time of musical worship and a relevant message.
URL:https://www.generationscc.ca/event/worship-service-1030am-105/
END:VEVENT
END:VCALENDAR