BEGIN:VCALENDAR
VERSION:2.0
PRODID:-//Generations Community Church - ECPv4.3.3//NONSGML v1.0//EN
CALSCALE:GREGORIAN
METHOD:PUBLISH
X-WR-CALNAME:Generations Community Church
X-ORIGINAL-URL:https://www.generationscc.ca
X-WR-CALDESC:Events for Generations Community Church
BEGIN:VEVENT
DTSTART;TZID=UTC-5:20230110T093000
DTEND;TZID=UTC-5:20230110T100000
DTSTAMP:20260424T125612
CREATED:20230101T201831Z
LAST-MODIFIED:20230101T203045Z
UID:27342-1673343000-1673344800@www.generationscc.ca
SUMMARY:Women's Bible Study 9:30am
DESCRIPTION:Join other women from Generations and the community as we dig deeper into the Bible together and spend time supporting and praying for each other. For location and more details please contact info@generationscc.ca
URL:https://www.generationscc.ca/event/womens-bible-study-930am/
END:VEVENT
END:VCALENDAR