BEGIN:VCALENDAR
VERSION:2.0
PRODID:-//Generations Community Church - ECPv4.3.3//NONSGML v1.0//EN
CALSCALE:GREGORIAN
METHOD:PUBLISH
X-WR-CALNAME:Generations Community Church
X-ORIGINAL-URL:https://www.generationscc.ca
X-WR-CALDESC:Events for Generations Community Church
BEGIN:VEVENT
DTSTART;TZID=UTC-5:20220604T080000
DTEND;TZID=UTC-5:20220604T130000
DTSTAMP:20260423T174853
CREATED:20220529T111447Z
LAST-MODIFIED:20220529T111447Z
UID:27076-1654329600-1654347600@www.generationscc.ca
SUMMARY:Wellesley Community Garage Sale 8am-1pm
DESCRIPTION:Generations is hosting a large garage sale in the Wellesley arena (1004 Catherine St).\n\nThere will be free hotdogs\, popcorn and refreshments served.\n\nMembers of the community are invited to reserve a free table.\n\nA map will also be put together for those who want to sell from their homes town wide.\n\nFor more information email: wellesleygaragesale@gmail.com
URL:https://www.generationscc.ca/event/wellesley-community-garage-sale-8am-1pm/
END:VEVENT
END:VCALENDAR