BEGIN:VCALENDAR
VERSION:2.0
PRODID:-//Generations Community Church - ECPv4.3.3//NONSGML v1.0//EN
CALSCALE:GREGORIAN
METHOD:PUBLISH
X-WR-CALNAME:Generations Community Church
X-ORIGINAL-URL:https://www.generationscc.ca
X-WR-CALDESC:Events for Generations Community Church
BEGIN:VEVENT
DTSTART;TZID=UTC-5:20210721T193000
DTEND;TZID=UTC-5:20210721T203000
DTSTAMP:20260423T000309
CREATED:20210626T163742Z
LAST-MODIFIED:20210626T163742Z
UID:26736-1626895800-1626899400@www.generationscc.ca
SUMMARY:Prayer Meeting 7:30pm
DESCRIPTION:Join us at the church for a time of prayer for our church family and the community around us.
URL:https://www.generationscc.ca/event/prayer-meeting-730pm/
END:VEVENT
END:VCALENDAR