BEGIN:VCALENDAR
VERSION:2.0
PRODID:-//Generations Community Church - ECPv4.3.3//NONSGML v1.0//EN
CALSCALE:GREGORIAN
METHOD:PUBLISH
X-WR-CALNAME:Generations Community Church
X-ORIGINAL-URL:https://www.generationscc.ca
X-WR-CALDESC:Events for Generations Community Church
BEGIN:VEVENT
DTSTART;TZID=UTC-5:20221116T193000
DTEND;TZID=UTC-5:20221116T203000
DTSTAMP:20260424T044337
CREATED:20220919T152934Z
LAST-MODIFIED:20220919T152934Z
UID:27220-1668627000-1668630600@www.generationscc.ca
SUMMARY:Prayer Meeting 7:30pm
DESCRIPTION:Join us at the church as we spend time together praying for our church family and community.
URL:https://www.generationscc.ca/event/prayer-meeting-730pm-4/
END:VEVENT
END:VCALENDAR