BEGIN:VCALENDAR
VERSION:2.0
PRODID:-//Generations Community Church - ECPv4.3.3//NONSGML v1.0//EN
CALSCALE:GREGORIAN
METHOD:PUBLISH
X-WR-CALNAME:Generations Community Church
X-ORIGINAL-URL:https://www.generationscc.ca
X-WR-CALDESC:Events for Generations Community Church
BEGIN:VEVENT
DTSTART;TZID=UTC-5:20220817T191500
DTEND;TZID=UTC-5:20220817T201500
DTSTAMP:20260423T222228
CREATED:20220605T190502Z
LAST-MODIFIED:20220605T190502Z
UID:27120-1660763700-1660767300@www.generationscc.ca
SUMMARY:Prayer Meeting 7:15pm
DESCRIPTION:Join us for a time of prayer outside at the church.  Bring a chair and dress for the weather.
URL:https://www.generationscc.ca/event/prayer-meeting-715pm-4/
END:VEVENT
END:VCALENDAR