BEGIN:VCALENDAR
VERSION:2.0
PRODID:-//Generations Community Church - ECPv4.3.3//NONSGML v1.0//EN
CALSCALE:GREGORIAN
METHOD:PUBLISH
X-WR-CALNAME:Generations Community Church
X-ORIGINAL-URL:https://www.generationscc.ca
X-WR-CALDESC:Events for Generations Community Church
BEGIN:VEVENT
DTSTART;TZID=UTC-5:20210414T193000
DTEND;TZID=UTC-5:20210414T210000
DTSTAMP:20260423T212629
CREATED:20210302T031848Z
LAST-MODIFIED:20210302T032235Z
UID:26559-1618428600-1618434000@www.generationscc.ca
SUMMARY:Home Group 7:30pm
DESCRIPTION:Join us on Zoom for an interactive Bible study and a time of prayer.
URL:https://www.generationscc.ca/event/home-group-730pm-5/
END:VEVENT
END:VCALENDAR