BEGIN:VCALENDAR
VERSION:2.0
PRODID:-//Generations Community Church - ECPv4.3.3//NONSGML v1.0//EN
CALSCALE:GREGORIAN
METHOD:PUBLISH
X-WR-CALNAME:Generations Community Church
X-ORIGINAL-URL:https://www.generationscc.ca
X-WR-CALDESC:Events for Generations Community Church
BEGIN:VEVENT
DTSTART;TZID=UTC-5:20210317T193000
DTEND;TZID=UTC-5:20210317T210000
DTSTAMP:20260424T033753
CREATED:20210302T023837Z
LAST-MODIFIED:20210302T023837Z
UID:26531-1616009400-1616014800@www.generationscc.ca
SUMMARY:Home Group 7:30pm
DESCRIPTION:Join us on Zoom for a study on Romans and a time of prayer.
URL:https://www.generationscc.ca/event/home-group-730pm-3/
END:VEVENT
END:VCALENDAR