BEGIN:VCALENDAR
VERSION:2.0
PRODID:-//Generations Community Church - ECPv4.3.3//NONSGML v1.0//EN
CALSCALE:GREGORIAN
METHOD:PUBLISH
X-WR-CALNAME:Generations Community Church
X-ORIGINAL-URL:https://www.generationscc.ca
X-WR-CALDESC:Events for Generations Community Church
BEGIN:VEVENT
DTSTART;TZID=UTC-5:20210519T193000
DTEND;TZID=UTC-5:20210519T210000
DTSTAMP:20260423T174409
CREATED:20210503T002821Z
LAST-MODIFIED:20210503T002821Z
UID:26647-1621452600-1621458000@www.generationscc.ca
SUMMARY:Home Group 7:30pm
DESCRIPTION:Join us on Zoom for an interactive Bible study and a time of prayer.
URL:https://www.generationscc.ca/event/home-group-730pm-10/
END:VEVENT
END:VCALENDAR