BEGIN:VCALENDAR
VERSION:2.0
PRODID:-//Generations Community Church - ECPv4.3.3//NONSGML v1.0//EN
CALSCALE:GREGORIAN
METHOD:PUBLISH
X-WR-CALNAME:Generations Community Church
X-ORIGINAL-URL:https://www.generationscc.ca
X-WR-CALDESC:Events for Generations Community Church
BEGIN:VEVENT
DTSTART;TZID=UTC-5:20210402T103000
DTEND;TZID=UTC-5:20210402T113000
DTSTAMP:20260424T021047
CREATED:20210302T030523Z
LAST-MODIFIED:20210302T030548Z
UID:26549-1617359400-1617363000@www.generationscc.ca
SUMMARY:Good Friday Service 10:30am
DESCRIPTION:Join us on Zoom for a time of musical worship and a relevant message.
URL:https://www.generationscc.ca/event/good-friday-service-1030am/
END:VEVENT
END:VCALENDAR