BEGIN:VCALENDAR
VERSION:2.0
PRODID:-//Generations Community Church - ECPv4.3.3//NONSGML v1.0//EN
CALSCALE:GREGORIAN
METHOD:PUBLISH
X-WR-CALNAME:Generations Community Church
X-ORIGINAL-URL:https://www.generationscc.ca
X-WR-CALDESC:Events for Generations Community Church
BEGIN:VEVENT
DTSTART;TZID=UTC-5:20230411T190000
DTEND;TZID=UTC-5:20230411T210000
DTSTAMP:20260425T141021
CREATED:20230402T172810Z
LAST-MODIFIED:20230402T173247Z
UID:27534-1681239600-1681246800@www.generationscc.ca
SUMMARY:Drop In Prayer Time 7:00pm-9:00pm
DESCRIPTION:Pastor Pat will be at the church from 7pm-9pm to pray with you.  Anyone is welcome to stop by during this time.
URL:https://www.generationscc.ca/event/drop-in-prayer-time-700pm-900pm/
END:VEVENT
END:VCALENDAR