BEGIN:VCALENDAR
VERSION:2.0
PRODID:-//Generations Community Church - ECPv4.3.3//NONSGML v1.0//EN
CALSCALE:GREGORIAN
METHOD:PUBLISH
X-WR-CALNAME:Generations Community Church
X-ORIGINAL-URL:https://www.generationscc.ca
X-WR-CALDESC:Events for Generations Community Church
BEGIN:VEVENT
DTSTART;TZID=UTC-5:20211210T181500
DTEND;TZID=UTC-5:20211210T194500
DTSTAMP:20260423T111611
CREATED:20211129T232438Z
LAST-MODIFIED:20211129T232438Z
UID:26917-1639160100-1639165500@www.generationscc.ca
SUMMARY:Christmas Tyme in Wellesley Parade
DESCRIPTION:Generations is having a float in the parade.\n\nMeet us in the Wellesley Public School parking lot between 6:15 - 6:30 to ride on the float. Parade starts at 6:45.\n\n 
URL:https://www.generationscc.ca/event/christmas-tyme-in-wellesley-parade/
END:VEVENT
END:VCALENDAR