BEGIN:VCALENDAR
VERSION:2.0
PRODID:-//Generations Community Church - ECPv4.3.3//NONSGML v1.0//EN
CALSCALE:GREGORIAN
METHOD:PUBLISH
X-WR-CALNAME:Generations Community Church
X-ORIGINAL-URL:https://www.generationscc.ca
X-WR-CALDESC:Events for Generations Community Church
BEGIN:VEVENT
DTSTART;TZID=UTC-5:20221123T193000
DTEND;TZID=UTC-5:20221123T210000
DTSTAMP:20260424T062044
CREATED:20220919T133547Z
LAST-MODIFIED:20220919T133547Z
UID:27206-1669231800-1669237200@www.generationscc.ca
SUMMARY:Bible Study 7:30pm
DESCRIPTION:
URL:https://www.generationscc.ca/event/bible-study-730pm-22/
END:VEVENT
END:VCALENDAR