BEGIN:VCALENDAR
VERSION:2.0
PRODID:-//Generations Community Church - ECPv4.3.3//NONSGML v1.0//EN
CALSCALE:GREGORIAN
METHOD:PUBLISH
X-WR-CALNAME:Generations Community Church
X-ORIGINAL-URL:https://www.generationscc.ca
X-WR-CALDESC:Events for Generations Community Church
BEGIN:VEVENT
DTSTART;TZID=UTC-5:20220928T193000
DTEND;TZID=UTC-5:20220928T210000
DTSTAMP:20260424T002717
CREATED:20220919T132505Z
LAST-MODIFIED:20220919T132505Z
UID:27193-1664393400-1664398800@www.generationscc.ca
SUMMARY:Bible Study 7:30pm
DESCRIPTION:Join us on Zoom as we dig deeper into the Bible together and spend time in prayer for each other and our community.
URL:https://www.generationscc.ca/event/bible-study-730pm-17/
END:VEVENT
END:VCALENDAR