BEGIN:VCALENDAR
VERSION:2.0
PRODID:-//Generations Community Church - ECPv4.3.3//NONSGML v1.0//EN
CALSCALE:GREGORIAN
METHOD:PUBLISH
X-WR-CALNAME:Generations Community Church
X-ORIGINAL-URL:https://www.generationscc.ca
X-WR-CALDESC:Events for Generations Community Church
BEGIN:VEVENT
DTSTART;TZID=UTC-5:20220223T193000
DTEND;TZID=UTC-5:20220223T210000
DTSTAMP:20260425T115425
CREATED:20211129T232052Z
LAST-MODIFIED:20211129T232052Z
UID:26915-1645644600-1645650000@www.generationscc.ca
SUMMARY:Bible Study 7:30pm
DESCRIPTION:Join us on Zoom as we dig deeper into the Bible together and spend time in prayer for each other and our community.
URL:https://www.generationscc.ca/event/bible-study-730pm-14/
END:VEVENT
END:VCALENDAR